Workbook

Sheet Formulário
B2: Estimativa de consumo de material para a construção de uma casa de madeira simples
B4: Dimensões | H4: Telhado
B6: Largura: | D6: 6 | E6: metros | G6: Distância entre caibros: | I6: 0.5 | K6: metros
B8: Comprimento: | D8: 8 | E8: metros | G8: Largura do beirado: | I8: 0.5 | K8: metros
B10: Divisórias: | D10: 0 | E10: metros lineares | G10: Tipo de telha:
G12: Bitola dos caibros:
G14: Tipo de rodapé:
B16: Tipos de Madeira
C18: Frontal: | F18: Abas:
C20: Forro: | F20: Estrutura das paredes:
C22: Assoalho: | F22: Estrutura do Telhado:
C24: Rodapé: | F24: Estrutura do Forro:
C26: Meia-cana / lua: | F26: Estrutura do Assoalho:

Sheet Resultado
C2: Estimativa de consumo de material para a construção de uma casa de madeira simples
B4: Paredes da Casa | H4: Buscar no sistema por...
B6: Frontal (paredes): | D6: =Engine!G15 -> 94 | H6: =IF(Dados!J7=1,Giox!B2,IF(Dados!J7=2,Giox!C2,IF(Dados!J7=3,Giox!D2,Giox!F2))) -> 01024 - FRONTAL AUTOCLAVE COM NÓ 2 X 14 X 3,00
B8: Pé direito: | D8: =Engine!G17 -> 14 | E8: 4 X 9 | F8: x 300 cm | H8: =IF(Dados!J13=1,Giox!B3,IF(Dados!J13=2,Giox!C3,IF(Dados!J13=3,Giox!D3,IF(Dados!J13=4,Giox!E3,Giox!F3)))) -> 00450 - VIGA AUTOCLAVE 4 X 9 X 3,00
B10: Régua de 7 (paredes): | D10: =Engine!G19 -> 32 | H10: =IF(Dados!J13=1,Giox!B5,IF(Dados!J13=2,Giox!C5,IF(Dados!J13=3,Giox!D5,IF(Dados!J13=4,Giox!E5,Giox!F5)))) -> 00418 - TABUA AUTOCLAVE 2 X 7 X 3,00 OU 00411 - TABUA AUTOCLAVE 2 X 7 X 4,00
B12: =IF(Dados!J4=1,Dados!A4,IF(Dados!J4=2,Dados!A6,Dados!A8)) -> Fibrocimento 6 mm | H12: Buscar no sistema por...
B14: Tesouras: | D14: =Engine!G33 -> 28 | E14: 4 X 9 | F14: cm
B16: Linhas das tesouras: | D16: =Engine!G39 -> 24 | E16: 4 X 9 | F16: cm | H16: =IF(Dados!J14=1,Giox!B28,IF(Dados!J14=2,Giox!C28,IF(Dados!J14=3,Giox!D28,IF(Dados!J14=4,Giox!E28,Giox!F28)))) -> 00447 - VIGA AUTOCLAVE 4 X 9 X 1,00
B18: Linhas: | D18: =Engine!G35 -> 45 | E18: 4 X 9 | F18: cm
B20: Pontaletes: | D20: =Engine!G37 -> 30 | E20: 4 X 9 | F20: cm
B22: Caibros: | D22: =Engine!G23 -> 40 | E22: =IF(Dados!J5=1,"2 X 9","4 X 9") -> 2 X 9 | F22: =TEXT(ROUNDUP(Engine!G21/5,1)*5,"X 0,0") -> X 4,0 | G22: =ROUNDUP(Engine!G21/5,1)*5 -> 4 | H22: =IF(Dados!J14=1,Giox!B6,IF(Dados!J14=2,Giox!C6,IF(Dados!J14=3,Giox!D6,IF(Dados!J14=4,Giox!E6,Giox!F6)))) -> TABUA AUTOCLAVE 2 X 9 (acima de 6m terá emendas)
B24: Ripas: | D24: =IF(Dados!J4<=2,Engine!G25,Engine!G27) -> 136 | E24: =IF(Dados!J4<=2,"2 X 4,5",IF(Dados!J4<=4,"2 X 7","2 X 9")) -> 2 X 7 | F24: cm | H24: =IF(Dados!J4<=2,P24,IF(Dados!J4<=4,Q24,R24)) -> 00418 - TABUA AUTOCLAVE 2 X 7 X 3,00 OU 00411 - TABUA AUTOCLAVE 2 X 7 X 4,00 | P24: =IF(Dados!J14=1,Giox!B4,IF(Dados!J14=2,Giox!C4,IF(Dados!J14=3,Giox!D4,IF(Dados!J14=4,Giox!E4,Giox!F4)))) -> 00419 - TABUA AUTOCLAVE 2 X 4,5 X 3,00 OU 00412 - TABUA AUTOCLAVE 2 X 4,5 X 4,00 | Q24: =IF(Dados!J14=1,Giox!B5,IF(Dados!J14=2,Giox!C5,IF(Dados!J14=3,Giox!D5,IF(Dados!J14=4,Giox!E5,Giox!F5)))) -> 00418 - TABUA AUTOCLAVE 2 X 7 X 3,00 OU 00411 - TABUA AUTOCLAVE 2 X 7 X 4,00 | R24: =IF(Dados!J14=1,Giox!#REF!,IF(Dados!J14=2,Giox!C7,IF(Dados!J14=3,Giox!D7,IF(Dados!J14=4,Giox!E8,Giox!F7)))) -> TABUA AUTOCLAVE 2 X 9 (acima de 6m terá emendas)
B26: Abas: | D26: =Engine!G45 -> 36 | E26: 14 | F26: cm | H26: =IF(Dados!J12=1,P26,IF(Dados!J12=2,Giox!E29,Giox!F29)) -> 12 UNIDADES 00420 - TABUA AUTOCLAVE TIPO ABA 2 X 14 X 3,00 | P26: =CONCATENATE(Q26," UNIDADES ",Giox!C29) -> 12 UNIDADES 00420 - TABUA AUTOCLAVE TIPO ABA 2 X 14 X 3,00 | Q26: =(ROUNDUP(D26/3,0)*3)/3 -> 12
B28: Telhas: | D28: =IF(Dados!J4=1,Engine!G51,IF(Dados!J4=2,Engine!G53,IF(Dados!J4=3,Engine!G55,IF(Dados!J4=4,Engine!G55,Engine!G57)))) -> 80 | H28: =IF(Dados!J4=1,Giox!B37,IF(Dados!J4=2,Giox!C37,IF(Dados!J4=3,Giox!D37,IF(Dados!J4=4,Giox!E37,Giox!F37)))) -> 00001 - TELHA FIBROCIMENTO 4MM CINZA 0,50 X 2,44
B30: Cumeeiras: | D30: =IF(Dados!J4=1,Engine!F51,IF(Dados!J4=2,Engine!F53,IF(Dados!J4=3,Engine!F55,IF(Dados!J4=4,Engine!F55,Engine!F57)))) -> 20 | H30: =IF(Dados!J4=1,Giox!B38,IF(Dados!J4=2,Giox!C38,IF(Dados!J4=3,Giox!D38,IF(Dados!J4=4,Giox!E38,Giox!F38)))) -> 00004 - CUMEEIRA FIBROCIMENTO 4MM CINZA | P30: =CONCATENATE(Q30," UNIDADES ",Giox!C33) -> 7 UNIDADES 00421 - RODAPE AUTOCLAVE 1,5 X 7 | Q30: =(ROUNDUP(D30/3,0)*3)/3 -> 7
B32: Forro | H32: Buscar no sistema por...
B34: Caibros: | D34: =Engine!G41 -> 118 | E34: 2 X 7 | F34: cm | H34: =IF(Dados!J15=1,Giox!B5,IF(Dados!J15=2,Giox!C5,IF(Dados!J15=3,Giox!D5,IF(Dados!J15=4,Giox!E5,Giox!F5)))) -> 00418 - TABUA AUTOCLAVE 2 X 7 X 3,00 OU 00411 - TABUA AUTOCLAVE 2 X 7 X 4,00
B36: Tirantes: | D36: =Engine!G43 -> 29.5 | E36: 2 X 4,5 | F36: cm | H36: =IF(Dados!J15=1,Giox!B4,IF(Dados!J15=2,Giox!C4,IF(Dados!J15=3,Giox!D4,IF(Dados!J15=4,Giox!E4,Giox!F4)))) -> 00419 - TABUA AUTOCLAVE 2 X 4,5 X 3,00 OU 00412 - TABUA AUTOCLAVE 2 X 4,5 X 4,00
B38: Forro: | D38: =Engine!G29 -> 50 | H38: =IF(Dados!J8=1,Giox!B30,IF(Dados!J8=2,Giox!C30,IF(Dados!J8=3,Giox!D30,IF(Dados!J8=4,Giox!E30,Giox!F30)))) -> 01023 - FORRO AUTOCLAVE COM NÓ 1 X 11,5 X 3,00
B40: Forro do beirado: | D40: =IF(Engine!G31>2,Engine!G31,"N/A") -> 19 | H40: =IF(Dados!J8=1,Giox!B30,IF(Dados!J8=2,Giox!C30,IF(Dados!J8=3,Giox!D30,IF(Dados!J8=4,Giox!E30,IF(Formulário!I8<1.9,Giox!F31,Giox!F30))))) -> 01023 - FORRO AUTOCLAVE COM NÓ 1 X 11,5 X 3,00
B42: Assoalho | H42: Buscar no sistema por...
B44: Linhas assoalho: | D44: =Engine!G11 -> 32 | E44: 4 X 9 | F44: cm | H44: =IF(Dados!J16=1,Giox!B28,IF(Dados!J16=2,Giox!C28,IF(Dados!J16=3,Giox!D28,IF(Dados!J16=4,Giox!E28,Giox!F28)))) -> 00447 - VIGA AUTOCLAVE 4 X 9 X 1,00
B46: Barrotes assoalho: | D46: =Engine!G13 -> 102 | E46: 4 X 9 | F46: cm | H46: =IF(Dados!J16=1,Giox!B28,IF(Dados!J16=2,Giox!C28,IF(Dados!J16=3,Giox!D28,IF(Dados!J16=4,Giox!E28,Giox!F28)))) -> 00447 - VIGA AUTOCLAVE 4 X 9 X 1,00
B48: Assoalho: | D48: =Engine!G9 -> 50 | H48: =IF(Dados!J9=1,Giox!B32,IF(Dados!J9=2,Giox!C32,IF(Dados!J9=3,Giox!D32,Giox!F32))) -> 01022 - ASSOALHO AUTOCLAVE COM NÓ 2 X 14 X 3,00
B50: Acabamento | H50: Buscar no sistema por...
B52: Rodapé: | D52: =Engine!G47 -> 28 | E52: =IF(Engine!H7=1,Dados!C4,IF(Engine!H7=2,Dados!C5,Dados!C6)) -> 5cm altura | H52: =IF(Dados!J10=1,Giox!C33,IF(Dados!J10=2,Giox!D33,Giox!F33)) -> 00421 - RODAPE AUTOCLAVE 1,5 X 7
B54: Meia-cana: | D54: =Engine!G49 -> 38 | H54: =IF(Dados!J11=1,CONCATENATE(Q54," UNIDADES ",Giox!B36),IF(Dados!J11=2,CONCATENATE(Q54," UNIDADES ",Giox!C36),IF(Dados!J11=3,CONCATENATE(Q54," UNIDADES ",Giox!D36),Giox!F36))) -> 13 UNIDADES 01368 - MEIA CANA AUTOCLAVE 2 X 2 X 3,00 | Q54: =(ROUNDUP(D54/3,0)*3)/3 -> 13
C57: NOTAS:
C58: 1. | D58: Sujeito à disponibilidade dos produtos em estoque (produtos não reservados).
C59: 2. | D59: Os cálculos acima foram feitos por mera cortesia e podem estar inexatos. Para cálculos precisos, consulte um profissional da área: arquiteto, engenheiro ou marceneiro experiente.
C61: ©2016 by Carlos "Martini", Todos os direitos reservados. Produzido para Santos Madeiras com dados para cálculo fornecidos por Ivan Zanchet.

Sheet Dados
A3: Tipos de telhas | B3: Caibros | C3: Altura do rodapé | D3: Frontal, assoalho e meia-cana | E3: Rodapé | F3: Abas | G3: Madeiras Geral | I3: Variáveis
A4: Portuguesa Natural | B4: 2 x 9 cm | C4: 5cm altura | D4: Pinus Natural | E4: Pinus Autoclave | F4: Pinus Autoclave | G4: Pinus Natural | I4: Tipo de telha: | J4: 3
A5: Cerâmica | B5: 4 x 9 cm | C5: 7cm altura | D5: Pinus Autoclave | E5: Eucalipto | F5: Cambará | G5: Pinus Autoclave | I5: Bitola dos caibros: | J5: 1
A6: Fibrocimento 4 mm | D6: Eucalipto | E6: Angelim Pedra | F6: Angelim Pedra | G6: Eucalipto | I6: Tipo de rodapé: | J6: 2
A7: Fibrocimento 5 mm | D7: Angelim Pedra | G7: Cambará | I7: Paredes: | J7: 2
A8: Fibrocimento 6 mm | G8: Angelim Pedra | I8: Forro: | J8: 2
I9: Assoalho: | J9: 2
I10: Rodapé: | J10: 1
I11: Meia-cana / lua: | J11: 2
I12: Abas: | J12: 1
I13: Estrutura das paredes: | J13: 2
I14: Estrutura do Telhado: | J14: 2
I15: Estrutura do Forro: | J15: 2
I16: Estrutura do Assoalho: | J16: 2

Sheet Giox
A2: Frontal: | B2: 01013 - FRONTAL PINUS 2 X 14 X 3,00 | C2: 01024 - FRONTAL AUTOCLAVE COM NÓ 2 X 14 X 3,00 | D2: 01027 - FRONTAL EUCALIPTO 2 X 8,5 X 3,00 | F2: 01016 - FRONTAL PEDRA
A3: Vigas: | B3: 00385 - VIGA PINUS 4 X 9 X 3,00 | C3: 00450 - VIGA AUTOCLAVE 4 X 9 X 3,00 | D3: 00211 - VIGA EUCALIPTO 4 X 9 X 3,00 (eucalipto entorta, oferecer autoclave ou cambará) | E3: 00260 - VIGA CAMBARA 4 X 9 X 3,00 | F3: 00942 - VIGA PEDRA 4 X 9 X 3,00
A4: Réguas 4,5 | B4: 00393 - TABUA PINUS 2 X 4,5 X 3,00 OU 00384 - TABUA PINUS 2 X 4,5 X 4,00 | C4: 00419 - TABUA AUTOCLAVE 2 X 4,5 X 3,00 OU 00412 - TABUA AUTOCLAVE 2 X 4,5 X 4,00 | D4: 00216 - TABUA EUCALIPTO 2 X 4,5 X 3,00 OU 00220 - TABUA EUCALIPTO 2 X 4,5 X 4,00 | E4: 00275 - TABUA CAMBARA 2 X 4,5 | F4: 00679 - TABUA PEDRA 2 X 4,5
A5: Réguas de 7: | B5: 00392 - TABUA PINUS 2 X 7 X 3,00 OU 00383 - TABUA PINUS 2 X 7 X 4,00 | C5: 00418 - TABUA AUTOCLAVE 2 X 7 X 3,00 OU 00411 - TABUA AUTOCLAVE 2 X 7 X 4,00 | D5: 00215 - TABUA EUCALIPTO 2 X 7 X 3,00 OU 00219 - TABUA EUCALIPTO 2 X 7 X 4,00 | E5: 00274 - TABUA CAMBARA 2 X 6 | F5: 00680 - TABUA PEDRA 2 X 6
A6: Escolher caibros telhado: | B6: =IF(Dados!J5=1,B7,B17) -> TABUA PINUS 2 X 9 (acima de 6m terá emendas) | C6: =IF(Dados!J5=1,C7,C17) -> TABUA AUTOCLAVE 2 X 9 (acima de 6m terá emendas) | D6: =IF(Dados!J5=1,D7,D17) -> 00214 - TABUA EUCALIPTO 2 X 9 X 3,00 OU 00218 - TABUA EUCALIPTO 2 X 9 X 4,00 | E6: =IF(Dados!J5=1,E7,E17) -> 00233 - TABUA CAMBARA 2 X 9 X 4,00 | F6: =IF(Dados!J5=1,F7,F17) -> 00644 - TABUA PEDRA 2 X 9 X 4,00
A7: Caibros 2 x 9 telhado: | B7: TABUA PINUS 2 X 9 (acima de 6m terá emendas) | C7: TABUA AUTOCLAVE 2 X 9 (acima de 6m terá emendas) | D7: 00214 - TABUA EUCALIPTO 2 X 9 X 3,00 OU 00218 - TABUA EUCALIPTO 2 X 9 X 4,00 | E7: =IF(IFERROR(FIND(TEXT(Resultado!F22,"@"),E8),0)>1,E8,IF(IFERROR(FIND(TEXT(Resultado!F22,"@"),E9),0)>1,E9,IF(IFERROR(FIND(TEXT(Resultado!F22,"@"),E10),0)>1,E10,IF(IFERROR(FIND(TEXT(Resultado!F22,"@"),E11),0)>1,E11,IF(IFERROR(FIND(TEXT(Resultado!F22,"@"),E12),0)>1,E12,IF(IFERROR(FIND(TEXT(Resultado!F22,"@"),E13),0)>1,E13,IF(IFERROR(FIND(TEXT(Resultado!F22,"@"),E14),0)>1,E14,IF(IFERROR(FIND(TEXT(Resultado!F3,"@"),E15),0)>1,E15,IF(IFERROR(FIND(TEXT(Resultado!F22,"@"),E16),0)>1,E16,E17))))))))) -> 00233 - TABUA CAMBARA 2 X 9 X 4,00 | F7: =IF(IFERROR(FIND(TEXT(Resultado!F22,"@"),F8),0)>1,F8,IF(IFERROR(FIND(TEXT(Resultado!F22,"@"),F9),0)>1,F9,IF(IFERROR(FIND(TEXT(Resultado!F22,"@"),F10),0)>1,F10,IF(IFERROR(FIND(TEXT(Resultado!F22,"@"),F11),0)>1,F11,IF(IFERROR(FIND(TEXT(Resultado!F22,"@"),F12),0)>1,F12,IF(IFERROR(FIND(TEXT(Resultado!F22,"@"),F13),0)>1,F13,IF(IFERROR(FIND(TEXT(Resultado!F22,"@"),F14),0)>1,F14,IF(IFERROR(FIND(TEXT(Resultado!G3,"@"),F15),0)>1,F15,IF(IFERROR(FIND(TEXT(Resultado!F22,"@"),F16),0)>1,F16,F17))))))))) -> 00644 - TABUA PEDRA 2 X 9 X 4,00
E8: 00231 - TABUA CAMBARA 2 X 9 X 3,00 | F8: 00642 - TABUA PEDRA 2 X 9 X 3,00
E9: 00232 - TABUA CAMBARA 2 X 9 X 3,50 | F9: 00643 - TABUA PEDRA 2 X 9 X 3,50
E10: 00233 - TABUA CAMBARA 2 X 9 X 4,00 | F10: 00644 - TABUA PEDRA 2 X 9 X 4,00
E11: 00234 - TABUA CAMBARA 2 X 9 X 4,50 | F11: 00645 - TABUA PEDRA 2 X 9 X 4,50
E12: 00235 - TABUA CAMBARA 2 X 9 X 5,00 | F12: 00646 - TABUA PEDRA 2 X 9 X 5,00
E13: 00236 - TABUA CAMBARA 2 X 9 X 5,50 | F13: 00647 - TABUA PEDRA 2 X 9 X 5,50
E14: 00237 - TABUA CAMBARA 2 X 9 X 6,00 | F14: 00648 - TABUA PEDRA 2 X 9 X 6,00
E15: 00238 - TABUA CAMBARA 2 X 9 X 6,50 | F15: 00649 - TABUA PEDRA 2 X 9 X 6,50
E16: 00239 - TABUA CAMBARA 2 X 9 X 7,00 | F16: 00650 - TABUA PEDRA 2 X 9 X 7,00
A17: Caibros 4 x 9 telhado: | B17: =IF(Resultado!F22<=3,B18,IF(Resultado!F22<=4,Giox!B19,Giox!B20)) -> VIGA PINUS 4 X 9 (acima de 4m terá emendas) | C17: =IF(Resultado!G22<=3,C18,IF(Resultado!G22<=4,Giox!C19,IF(Resultado!G22<=6,Giox!C20,Giox!C21))) -> 00451 - VIGA AUTOCLAVE 4 X 9 X 4,00 | D17: =IF(Resultado!F22<=3,D18,IF(Resultado!F22<=4,Giox!D19,Giox!D20)) -> VIGA EUCALIPTO 4 X 9 (acima de 4m terá emendas) | E17: =IF(IFERROR(FIND(TEXT(Resultado!F22,"@"),E18),0)>1,E18,IF(IFERROR(FIND(TEXT(Resultado!F22,"@"),E19),0)>1,E19,IF(IFERROR(FIND(TEXT(Resultado!F22,"@"),E20),0)>1,E20,IF(IFERROR(FIND(TEXT(Resultado!F22,"@"),E21),0)>1,E21,IF(IFERROR(FIND(TEXT(Resultado!F22,"@"),E22),0)>1,E22,IF(IFERROR(FIND(TEXT(Resultado!F22,"@"),E23),0)>1,E23,IF(IFERROR(FIND(TEXT(Resultado!F22,"@"),E24),0)>1,E24,IF(IFERROR(FIND(TEXT(Resultado!F13,"@"),E25),0)>1,E25,IF(IFERROR(FIND(TEXT(Resultado!F22,"@"),E26),0)>1,E26,E27))))))))) -> 00262 - VIGA CAMBARA 4 X 9 X 4,00 | F17: =IF(IFERROR(FIND(TEXT(Resultado!F22,"@"),F18),0)>1,F18,IF(IFERROR(FIND(TEXT(Resultado!F22,"@"),F19),0)>1,F19,IF(IFERROR(FIND(TEXT(Resultado!F22,"@"),F20),0)>1,F20,IF(IFERROR(FIND(TEXT(Resultado!F22,"@"),F21),0)>1,F21,IF(IFERROR(FIND(TEXT(Resultado!F22,"@"),F22),0)>1,F22,IF(IFERROR(FIND(TEXT(Resultado!F22,"@"),F23),0)>1,F23,IF(IFERROR(FIND(TEXT(Resultado!F22,"@"),F24),0)>1,F24,IF(IFERROR(FIND(TEXT(Resultado!G13,"@"),F25),0)>1,F25,IF(IFERROR(FIND(TEXT(Resultado!F22,"@"),F26),0)>1,F26,F27))))))))) -> 00944 - VIGA PEDRA 4 X 9 X 4,00
B18: 00385 - VIGA PINUS 4 X 9 X 3,00 | C18: 00450 - VIGA AUTOCLAVE 4 X 9 X 3,00 | D18: 00211 - VIGA EUCALIPTO 4 X 9 X 3,00 | E18: 00260 - VIGA CAMBARA 4 X 9 X 3,00 | F18: 00942 - VIGA PEDRA 4 X 9 X 3,00
B19: 00386 - VIGA PINUS 4 X 9 X 4,00 | C19: 00451 - VIGA AUTOCLAVE 4 X 9 X 4,00 | D19: 00212 - VIGA EUCALIPTO 4 X 9 X 4,00 | E19: 00261 - VIGA CAMBARA 4 X 9 X 3,50 | F19: 00943 - VIGA PEDRA 4 X 9 X 3,50
B20: VIGA PINUS 4 X 9 (acima de 4m terá emendas) | C20: 00452 - VIGA AUTOCLAVE 4 X 9 X 6,00 | D20: VIGA EUCALIPTO 4 X 9 (acima de 4m terá emendas) | E20: 00262 - VIGA CAMBARA 4 X 9 X 4,00 | F20: 00944 - VIGA PEDRA 4 X 9 X 4,00
C21: VIGA AUTOCLAVE 4 X 9 (acima de 6m terá emendas) | E21: 00263 - VIGA CAMBARA 4 X 9 X 4,50 | F21: 00945 - VIGA PEDRA 4 X 9 X 4,50
E22: 00264 - VIGA CAMBARA 4 X 9 X 5,00 | F22: 00946 - VIGA PEDRA 4 X 9 X 5,00
E23: 00265 - VIGA CAMBARA 4 X 9 X 5,50 | F23: 00947 - VIGA PEDRA 4 X 9 X 5,50
E24: 00266 - VIGA CAMBARA 4 X 9 X 6,00 | F24: 00948 - VIGA PEDRA 4 X 9 X 6,00
E25: 00267 - VIGA CAMBARA 4 X 9 X 6,50 | F25: 00949 - VIGA PEDRA 4 X 9 X 6,50
E26: 00268 - VIGA CAMBARA 4 X 9 X 7,00 | F26: 00950 - VIGA PEDRA 4 X 9 X 7,00
E27: VIGA CAMBARA 4 X 9 (acima de 7m terá emendas) | F27: VIGA PEDRA 4 X 9 (acima de 7m terá emendas)
A28: Vigas telhado: | B28: 00385 - VIGA PINUS 4 X 9 X 3,00 OU 00386 - VIGA PINUS 4 X 9 X 4,00 | C28: 00447 - VIGA AUTOCLAVE 4 X 9 X 1,00 | D28: 00211 - VIGA EUCALIPTO 4 X 9 X 3,00 OU 00212 - VIGA EUCALIPTO 4 X 9 X 4,00 | E28: 00256 - VIGA CAMBARA 4 X 9 X 1,00 | F28: 00938 - VIGA PEDRA 4 X 9 X 1,00
A29: Abas: | C29: 00420 - TABUA AUTOCLAVE TIPO ABA 2 X 14 X 3,00 | E29: 00241 - TABUA CAMBARA TIPO ABA 2 X 14 X 1,00 | F29: 00652 - TABUA PEDRA TIPO ABA 2 X 14 X 1,00
A30: Forro: | B30: 01012 - FORRO PINUS 1 X 11,5 X 3,00 | C30: 01023 - FORRO AUTOCLAVE COM NÓ 1 X 11,5 X 3,00 | D30: 01026 - FORRO EUCALIPTO 1 X 8,5 X 3,00 | E30: 01028 - FORRO CAMBARA | F30: 01015 - FORRO PEDRA
F31: 01015 - FORRO PEDRA
A32: Assoalho: | B32: 01011-ASSOALHO PINUS 2 X 14 X 3,00 | C32: 01022 - ASSOALHO AUTOCLAVE COM NÓ 2 X 14 X 3,00 | D32: 01025 - ASSOALHO EUCALIPTO 2 X 8,0 X 3,00 | F32: 01014 - ASSOALHO PEDRA
A33: Rodapé: | C33: =IF(Dados!J6=1,C34,C35) -> 00421 - RODAPE AUTOCLAVE 1,5 X 7 | D33: =IF(Dados!J6=1,D34,D35) -> 00223 - RODAPE EUCALIPTO 1 X 7 | F33: =IF(Dados!J6=1,F34,F35) -> 00695 - RODAPE PEDRA 7 X 1
C34: 00421 - RODAPE AUTOCLAVE 1,5 X 7 | D34: 00223 - RODAPE EUCALIPTO 1 X 7 | F34: 00694 - RODAPE PEDRA 5 X 1
C35: 00421 - RODAPE AUTOCLAVE 1,5 X 7 | D35: 00223 - RODAPE EUCALIPTO 1 X 7 | F35: 00695 - RODAPE PEDRA 7 X 1
A36: Meia cana: | B36: 01371 - MEIA CANA PINUS 2 X 2 X 3,00 | C36: 01368 - MEIA CANA AUTOCLAVE 2 X 2 X 3,00 | D36: 01369 - MEIA CANA EUCALIPTO 2 X 2 X 3,00 | F36: 01370 - MEIA CANA PEDRA 2 X 2 X 3,00
A37: Telhas: | B37: 00145 - TELHA PORTUGUESA NATURAL VERMELHA | C37: ARTGRES | D37: 00001 - TELHA FIBROCIMENTO 4MM CINZA 0,50 X 2,44 | E37: 00002 - TELHA FIBROCIMENTO 5MM VERMELHA 0,50 X 2,44 | F37: 00003 - TELHA FIBROCIMENTO 6MM CINZA 1,10 X 2,44
A38: Cumeeira: | B38: 00160 - CUMEEIRA NATURAL VERMELHA | C38: ARTGRES | D38: 00004 - CUMEEIRA FIBROCIMENTO 4MM CINZA | E38: OFERECER 00160 - CUMEEIRA NATURAL VERMELHA | F38: OFERECER 00160 - CUMEEIRA NATURAL VERMELHA

Sheet Engine
A1: CALCULO DE CASA
A3: TAMANHO DA CASA
A5: LARGURA | C5: COMPRIMENTO | D5: M2 | G5: TOTAL DA CASA M2
A6: =Formulário!D6 -> 6 | B6: X | C6: =Formulário!D8 -> 8 | D6: =A6*C6 -> 48 | G6: =D6 -> 48
H7: 1
A8: ASSOALHO M2 | B8: ACRESCENTAR M2 | C8: TOTAL | G8: TOTAL ASSOALHO M2
A9: =D6 -> 48 | B9: 2 | C9: =A9+B9 -> 50 | G9: =C9 -> 50
A10: LINHA ASSOALHO | B10: ARREDONDA | C10: PEÇAS | D10: BITOLA | E10: COMPRIMENTO | G10: TOTAL ML 4X9
A11: =A6/1.5 -> 4 | B11: =ROUNDUP(A11,0) -> 4 | C11: =B11 -> 4 | D11: 4X9 | E11: =C6 -> 8 | G11: =C11*E11 -> 32
A12: BARROTE ASSOALHO | B12: MAIS 1 | C12: PEÇAS | D12: BITOLA | E12: COMPRIMENTO | G12: TOTAL ML 4X9
A13: =C6/0.5 -> 16 | B13: 1 | C13: =A13+B13 -> 17 | D13: 4X9 | E13: =A6 -> 6 | G13: =C13*E13 -> 102
A14: PAREDE ML FRONTAL | B14: ALTURA | C14: MAIS 10 M2 | D14: COM DIVISORIA | E14: ALTURA | F14: TOTAL DA DIVISORIA | G14: TOTAL M2 FRONTAL C/ DIVISORIA
A15: =A6+A6+C6+C6 -> 28 | B15: 3 | C15: =A15*B15+10 -> 94 | D15: =Formulário!D10 -> 0 | E15: 3 | F15: =D15*E15 -> 0 | G15: =C15+F15 -> 94
A16: PE DIREITO | B16: ARREDONDA | C16: MAIS 2 | D16: TOTAL | E16: BITOLA | F16: ALTURA | G16: TOTAL DE PE DIREITO
A17: =A15/2.5 -> 11.2 | B17: =ROUNDUP(A17,0) -> 12 | C17: 2 | D17: =B17+C17 -> 14 | E17: 4X9 | F17: 3 | G17: =D17 -> 14
A18: REGUA PAREDE | B18: MAIS 4 ML | C18: ML | D18: BITOLA | E18: COM DIVISORIA ML | F18: BITOLA | G18: TOTAL REGUA PAREDE
A19: =A15 -> 28 | B19: 4 | C19: =A19+B19 -> 32 | D19: 7X2 | E19: =D15 -> 0 | F19: 7X2 | G19: =C19+E19 -> 32
A20: TELHADO | B20: BEIRADO | C20: TAMANHO CAIBRO | E20: BITOLA | G20: TAMANHO DOS CAIBROS 4X9
A21: =A6/2+0.5 -> 3.5 | B21: =Formulário!I8 -> 0.5 | C21: =A21+B21 -> 4 | E21: 4X9 | G21: =C21 -> 4
A22: COMPRIMENTO DA CASA COM BERADO | B22: DISTANCIA CAIBROS | C22: TOTAL | D22: ARREDONDA | E22: ACRESCENTAR | F22: QUANTIDADE CAIBROS | G22: TOTAL CAIBRO DA CASA
A23: =C6+B21+B21 -> 9 | B23: =Formulário!I6 -> 0.5 | C23: =A23/B23 -> 18 | D23: =ROUNDUP(C23,0) -> 18 | E23: 2 | F23: =D23+E23 -> 20 | G23: =F23+F23 -> 40
A24: RIPA TELHA BARRO | B24: ARREDONDA | C24: ACRESCENTA | D24: TOTAL CARREIROS | F24: TOTAL DE RIPA | G24: TOTAL DE RIPA TELHA BARRO
A25: =C21*3 -> 12 | B25: =ROUNDUP(A25,0) -> 12 | C25: 2 | D25: =B25+C25 -> 14 | E25: =D25*A23 -> 126 | F25: =E25+E25 -> 252 | G25: =F25+20 -> 272
A26: RIPA TELHA BRAZILIT | B26: ARREDONDA | C26: ACRESCENTA | D26: TOTAL CARREIROS | F26: TOTAL DE RIPA | G26: TOTAL DA RIPA TELHA BRAZILIT
A27: =C21/0.7 -> 5.7142857 | B27: =ROUNDUP(A27,0) -> 6 | C27: 1 | D27: =B27+C27 -> 7 | E27: =D27*A23 -> 63 | F27: =E27+E27 -> 126 | G27: =F27+10 -> 136
A28: FORRO DENTRO CASA | B28: ACRESCENTAR M2 | G28: TOTAL M2 FORRO
A29: =A6*C6 -> 48 | B29: 2 | G29: =A29+B29 -> 50
A30: FORRO DO BERADO | B30: LARGURA DO BERADO | C30: TOTAL M2 FORRO | D30: ARREDONDA | E30: ACRESCENTAR M2 | G30: TOTAL M2 FORRO BERADO
A31: =A23+A23+C21+C21+C21+C21 -> 34 | B31: =B21 -> 0.5 | C31: =A31*B31 -> 17 | D31: =ROUNDUP(C31,0) -> 17 | E31: 2 | G31: =D31+E31 -> 19
A32: TESOURA LARGURA UM LADO | B32: QUANTIDADE TESOURAS | C32: ARREDONDA | D32: TOTAL LINHAS TESOURAS | E32: BITOLA | F32: COMPRIMENTO | G32: QUANTIDADE ML 4X9 TESOURAS
A33: =A6/2+0.5 -> 3.5 | B33: =C6/2.5 -> 3.2 | C33: =ROUNDUP(B33,0) -> 4 | D33: =C33*2 -> 8 | E33: 4X9 | F33: =A33 -> 3.5 | G33: =D33*F33 -> 28
A34: LINHA TELHADO COMPRIMENTO | B34: ARREDONDA | C34: QUANTIDADE LINHA | D34: BITOLA | E34: COMPRIMENTO | G34: QUANTIDADE ML 4X9 LINHAS
A35: =C6+B21+B21 -> 9 | B35: =ROUNDUP(A35,0) -> 9 | C35: 5 | D35: 4X9 | E35: =B35 -> 9 | G35: =E35*C35 -> 45
A36: PONTALETE | B36: ARREDONDA | C36: BITOLA | G36: QUANTIDADE ML PONTALETE 4X9
A37: =C33*7.5 -> 30 | B37: =ROUNDUP(A37,0) -> 30 | C37: 4X9 | G37: =B37 -> 30
A38: LINHA CASA ( TESOURA) | B38: AREDONDA | C38: QUANTID. PEÇAS | D38: BITOLA | E38: COMPRIMENTO | G38: QUANTIDADE DE ML 4X9
A39: =C6/2.5 -> 3.2 | B39: =ROUNDUP(A39,0) -> 4 | C39: =B39 -> 4 | D39: 4X9 | E39: =A6 -> 6 | G39: =C39*E39 -> 24
A40: CAIBRO FORRO | B40: COMPRIMENTO | C40: TOTAL | D40: ACRESCENTAR | E40: BITOLA | G40: QUANTIDADE CAIBRO ML 7 X 2
A41: =C6/0.5+2 -> 18 | B41: =A6 -> 6 | C41: =A41*B41 -> 108 | D41: 10 | E41: 7X2 | F41: =C41+D41 -> 118 | G41: =F41 -> 118
A42: TIRANTE FORRO | B42: LARGURA DO TIRANTE | G42: QUANTIDADE TIRANTES ML 4X2
...
